BEGIN:VCALENDAR
VERSION:2.0
PRODID:-//Total Gym - ECPv6.9.0//NONSGML v1.0//EN
CALSCALE:GREGORIAN
METHOD:PUBLISH
X-ORIGINAL-URL:https://www.totalgym.fi
X-WR-CALDESC:Events for Total Gym
REFRESH-INTERVAL;VALUE=DURATION:PT1H
X-Robots-Tag:noindex
X-PUBLISHED-TTL:PT1H
BEGIN:VTIMEZONE
TZID:Europe/Helsinki
BEGIN:DAYLIGHT
TZOFFSETFROM:+0200
TZOFFSETTO:+0300
TZNAME:EEST
DTSTART:20210328T010000
END:DAYLIGHT
BEGIN:STANDARD
TZOFFSETFROM:+0300
TZOFFSETTO:+0200
TZNAME:EET
DTSTART:20211031T010000
END:STANDARD
END:VTIMEZONE
BEGIN:VEVENT
DTSTART;TZID=Europe/Helsinki:20211102T180000
DTEND;TZID=Europe/Helsinki:20211102T190000
DTSTAMP:20260424T031320
CREATED:20210824T153708Z
LAST-MODIFIED:20220321T142621Z
UID:4076-1635876000-1635879600@www.totalgym.fi
SUMMARY:Ohjattu toiminnallinen harjoittelu
DESCRIPTION:Ohjaajana Taru
URL:https://www.totalgym.fi/tunti/ohjattu-toiminnallinen-harjoittelu-20-2021-11-02/
LOCATION:Vuorikatu 3 B\, Uusikaupunki\, 23500\, Suomi
END:VEVENT
BEGIN:VEVENT
DTSTART;TZID=Europe/Helsinki:20211109T180000
DTEND;TZID=Europe/Helsinki:20211109T190000
DTSTAMP:20260424T031320
CREATED:20210824T153708Z
LAST-MODIFIED:20220321T142621Z
UID:4077-1636480800-1636484400@www.totalgym.fi
SUMMARY:Ohjattu toiminnallinen harjoittelu
DESCRIPTION:Ohjaajana Taru
URL:https://www.totalgym.fi/tunti/ohjattu-toiminnallinen-harjoittelu-20-2021-11-09/
LOCATION:Vuorikatu 3 B\, Uusikaupunki\, 23500\, Suomi
END:VEVENT
BEGIN:VEVENT
DTSTART;TZID=Europe/Helsinki:20211116T180000
DTEND;TZID=Europe/Helsinki:20211116T190000
DTSTAMP:20260424T031320
CREATED:20210824T153708Z
LAST-MODIFIED:20220321T142621Z
UID:4078-1637085600-1637089200@www.totalgym.fi
SUMMARY:Ohjattu toiminnallinen harjoittelu
DESCRIPTION:Ohjaajana Taru
URL:https://www.totalgym.fi/tunti/ohjattu-toiminnallinen-harjoittelu-20-2021-11-16/
LOCATION:Vuorikatu 3 B\, Uusikaupunki\, 23500\, Suomi
END:VEVENT
BEGIN:VEVENT
DTSTART;TZID=Europe/Helsinki:20211123T180000
DTEND;TZID=Europe/Helsinki:20211123T190000
DTSTAMP:20260424T031320
CREATED:20210824T153708Z
LAST-MODIFIED:20220321T142622Z
UID:4079-1637690400-1637694000@www.totalgym.fi
SUMMARY:Ohjattu toiminnallinen harjoittelu
DESCRIPTION:Ohjaajana Taru
URL:https://www.totalgym.fi/tunti/ohjattu-toiminnallinen-harjoittelu-20-2021-11-23/
LOCATION:Vuorikatu 3 B\, Uusikaupunki\, 23500\, Suomi
END:VEVENT
BEGIN:VEVENT
DTSTART;TZID=Europe/Helsinki:20211130T180000
DTEND;TZID=Europe/Helsinki:20211130T190000
DTSTAMP:20260424T031320
CREATED:20210824T153708Z
LAST-MODIFIED:20220321T152136Z
UID:4080-1638295200-1638298800@www.totalgym.fi
SUMMARY:Ohjattu toiminnallinen harjoittelu
DESCRIPTION:Ohjaajana Taru
URL:https://www.totalgym.fi/tunti/ohjattu-toiminnallinen-harjoittelu-20-2021-11-30/
LOCATION:Vuorikatu 3 B\, Uusikaupunki\, 23500\, Suomi
END:VEVENT
END:VCALENDAR