BEGIN:VCALENDAR
VERSION:2.0
PRODID:-//Total Gym - ECPv6.9.0//NONSGML v1.0//EN
CALSCALE:GREGORIAN
METHOD:PUBLISH
X-WR-CALNAME:Total Gym
X-ORIGINAL-URL:https://www.totalgym.fi
X-WR-CALDESC:Events for Total Gym
REFRESH-INTERVAL;VALUE=DURATION:PT1H
X-Robots-Tag:noindex
X-PUBLISHED-TTL:PT1H
BEGIN:VTIMEZONE
TZID:Europe/Helsinki
BEGIN:DAYLIGHT
TZOFFSETFROM:+0200
TZOFFSETTO:+0300
TZNAME:EEST
DTSTART:20200329T010000
END:DAYLIGHT
BEGIN:STANDARD
TZOFFSETFROM:+0300
TZOFFSETTO:+0200
TZNAME:EET
DTSTART:20201025T010000
END:STANDARD
BEGIN:DAYLIGHT
TZOFFSETFROM:+0200
TZOFFSETTO:+0300
TZNAME:EEST
DTSTART:20210328T010000
END:DAYLIGHT
BEGIN:STANDARD
TZOFFSETFROM:+0300
TZOFFSETTO:+0200
TZNAME:EET
DTSTART:20211031T010000
END:STANDARD
BEGIN:DAYLIGHT
TZOFFSETFROM:+0200
TZOFFSETTO:+0300
TZNAME:EEST
DTSTART:20220327T010000
END:DAYLIGHT
BEGIN:STANDARD
TZOFFSETFROM:+0300
TZOFFSETTO:+0200
TZNAME:EET
DTSTART:20221030T010000
END:STANDARD
END:VTIMEZONE
BEGIN:VEVENT
DTSTART;TZID=Europe/Helsinki:20220208T180000
DTEND;TZID=Europe/Helsinki:20220208T190000
DTSTAMP:20260419T181752
CREATED:20210824T153708Z
LAST-MODIFIED:20220321T152138Z
UID:4112-1644343200-1644346800@www.totalgym.fi
SUMMARY:Ohjattu toiminnallinen harjoittelu
DESCRIPTION:Ohjaajana Taru
URL:https://www.totalgym.fi/tunti/ohjattu-toiminnallinen-harjoittelu-20-2022-02-08/
LOCATION:Vuorikatu 3 B\, Uusikaupunki\, 23500\, Suomi
END:VEVENT
BEGIN:VEVENT
DTSTART;TZID=Europe/Helsinki:20220201T180000
DTEND;TZID=Europe/Helsinki:20220201T190000
DTSTAMP:20260419T181752
CREATED:20210824T153708Z
LAST-MODIFIED:20220321T152138Z
UID:4106-1643738400-1643742000@www.totalgym.fi
SUMMARY:Ohjattu toiminnallinen harjoittelu
DESCRIPTION:Ohjaajana Taru
URL:https://www.totalgym.fi/tunti/ohjattu-toiminnallinen-harjoittelu-20-2022-02-01/
LOCATION:Vuorikatu 3 B\, Uusikaupunki\, 23500\, Suomi
END:VEVENT
BEGIN:VEVENT
DTSTART;TZID=Europe/Helsinki:20220125T180000
DTEND;TZID=Europe/Helsinki:20220125T190000
DTSTAMP:20260419T181752
CREATED:20210824T153708Z
LAST-MODIFIED:20220321T152138Z
UID:4105-1643133600-1643137200@www.totalgym.fi
SUMMARY:Ohjattu toiminnallinen harjoittelu
DESCRIPTION:Ohjaajana Taru
URL:https://www.totalgym.fi/tunti/ohjattu-toiminnallinen-harjoittelu-20-2022-01-25/
LOCATION:Vuorikatu 3 B\, Uusikaupunki\, 23500\, Suomi
END:VEVENT
BEGIN:VEVENT
DTSTART;TZID=Europe/Helsinki:20220118T180000
DTEND;TZID=Europe/Helsinki:20220118T190000
DTSTAMP:20260419T181752
CREATED:20210824T153708Z
LAST-MODIFIED:20220321T152138Z
UID:4104-1642528800-1642532400@www.totalgym.fi
SUMMARY:Ohjattu toiminnallinen harjoittelu
DESCRIPTION:Ohjaajana Taru
URL:https://www.totalgym.fi/tunti/ohjattu-toiminnallinen-harjoittelu-20-2022-01-18/
LOCATION:Vuorikatu 3 B\, Uusikaupunki\, 23500\, Suomi
END:VEVENT
BEGIN:VEVENT
DTSTART;TZID=Europe/Helsinki:20220111T180000
DTEND;TZID=Europe/Helsinki:20220111T190000
DTSTAMP:20260419T181752
CREATED:20210824T153708Z
LAST-MODIFIED:20220321T152137Z
UID:4103-1641924000-1641927600@www.totalgym.fi
SUMMARY:Ohjattu toiminnallinen harjoittelu
DESCRIPTION:Ohjaajana Taru
URL:https://www.totalgym.fi/tunti/ohjattu-toiminnallinen-harjoittelu-20-2022-01-11/
LOCATION:Vuorikatu 3 B\, Uusikaupunki\, 23500\, Suomi
END:VEVENT
BEGIN:VEVENT
DTSTART;TZID=Europe/Helsinki:20220104T180000
DTEND;TZID=Europe/Helsinki:20220104T190000
DTSTAMP:20260419T181752
CREATED:20210824T153708Z
LAST-MODIFIED:20220321T152137Z
UID:4102-1641319200-1641322800@www.totalgym.fi
SUMMARY:Ohjattu toiminnallinen harjoittelu
DESCRIPTION:Ohjaajana Taru
URL:https://www.totalgym.fi/tunti/ohjattu-toiminnallinen-harjoittelu-20-2022-01-04/
LOCATION:Vuorikatu 3 B\, Uusikaupunki\, 23500\, Suomi
END:VEVENT
BEGIN:VEVENT
DTSTART;TZID=Europe/Helsinki:20211228T180000
DTEND;TZID=Europe/Helsinki:20211228T190000
DTSTAMP:20260419T181752
CREATED:20210824T153708Z
LAST-MODIFIED:20220321T152137Z
UID:4111-1640714400-1640718000@www.totalgym.fi
SUMMARY:Ohjattu toiminnallinen harjoittelu
DESCRIPTION:Ohjaajana Taru
URL:https://www.totalgym.fi/tunti/ohjattu-toiminnallinen-harjoittelu-20-2021-12-28/
LOCATION:Vuorikatu 3 B\, Uusikaupunki\, 23500\, Suomi
END:VEVENT
BEGIN:VEVENT
DTSTART;TZID=Europe/Helsinki:20211221T180000
DTEND;TZID=Europe/Helsinki:20211221T190000
DTSTAMP:20260419T181752
CREATED:20210824T153708Z
LAST-MODIFIED:20220321T152137Z
UID:4091-1640109600-1640113200@www.totalgym.fi
SUMMARY:Ohjattu toiminnallinen harjoittelu
DESCRIPTION:Ohjaajana Taru
URL:https://www.totalgym.fi/tunti/ohjattu-toiminnallinen-harjoittelu-20-2021-12-21/
LOCATION:Vuorikatu 3 B\, Uusikaupunki\, 23500\, Suomi
END:VEVENT
BEGIN:VEVENT
DTSTART;TZID=Europe/Helsinki:20211214T180000
DTEND;TZID=Europe/Helsinki:20211214T190000
DTSTAMP:20260419T181752
CREATED:20210824T153708Z
LAST-MODIFIED:20220321T152136Z
UID:4090-1639504800-1639508400@www.totalgym.fi
SUMMARY:Ohjattu toiminnallinen harjoittelu
DESCRIPTION:Ohjaajana Taru
URL:https://www.totalgym.fi/tunti/ohjattu-toiminnallinen-harjoittelu-20-2021-12-14/
LOCATION:Vuorikatu 3 B\, Uusikaupunki\, 23500\, Suomi
END:VEVENT
BEGIN:VEVENT
DTSTART;TZID=Europe/Helsinki:20211207T180000
DTEND;TZID=Europe/Helsinki:20211207T190000
DTSTAMP:20260419T181752
CREATED:20210824T153708Z
LAST-MODIFIED:20220321T152136Z
UID:4089-1638900000-1638903600@www.totalgym.fi
SUMMARY:Ohjattu toiminnallinen harjoittelu
DESCRIPTION:Ohjaajana Taru
URL:https://www.totalgym.fi/tunti/ohjattu-toiminnallinen-harjoittelu-20-2021-12-07/
LOCATION:Vuorikatu 3 B\, Uusikaupunki\, 23500\, Suomi
END:VEVENT
BEGIN:VEVENT
DTSTART;TZID=Europe/Helsinki:20211130T180000
DTEND;TZID=Europe/Helsinki:20211130T190000
DTSTAMP:20260419T181752
CREATED:20210824T153708Z
LAST-MODIFIED:20220321T152136Z
UID:4080-1638295200-1638298800@www.totalgym.fi
SUMMARY:Ohjattu toiminnallinen harjoittelu
DESCRIPTION:Ohjaajana Taru
URL:https://www.totalgym.fi/tunti/ohjattu-toiminnallinen-harjoittelu-20-2021-11-30/
LOCATION:Vuorikatu 3 B\, Uusikaupunki\, 23500\, Suomi
END:VEVENT
BEGIN:VEVENT
DTSTART;TZID=Europe/Helsinki:20211123T180000
DTEND;TZID=Europe/Helsinki:20211123T190000
DTSTAMP:20260419T181752
CREATED:20210824T153708Z
LAST-MODIFIED:20220321T142622Z
UID:4079-1637690400-1637694000@www.totalgym.fi
SUMMARY:Ohjattu toiminnallinen harjoittelu
DESCRIPTION:Ohjaajana Taru
URL:https://www.totalgym.fi/tunti/ohjattu-toiminnallinen-harjoittelu-20-2021-11-23/
LOCATION:Vuorikatu 3 B\, Uusikaupunki\, 23500\, Suomi
END:VEVENT
BEGIN:VEVENT
DTSTART;TZID=Europe/Helsinki:20211116T180000
DTEND;TZID=Europe/Helsinki:20211116T190000
DTSTAMP:20260419T181752
CREATED:20210824T153708Z
LAST-MODIFIED:20220321T142621Z
UID:4078-1637085600-1637089200@www.totalgym.fi
SUMMARY:Ohjattu toiminnallinen harjoittelu
DESCRIPTION:Ohjaajana Taru
URL:https://www.totalgym.fi/tunti/ohjattu-toiminnallinen-harjoittelu-20-2021-11-16/
LOCATION:Vuorikatu 3 B\, Uusikaupunki\, 23500\, Suomi
END:VEVENT
BEGIN:VEVENT
DTSTART;TZID=Europe/Helsinki:20211109T180000
DTEND;TZID=Europe/Helsinki:20211109T190000
DTSTAMP:20260419T181752
CREATED:20210824T153708Z
LAST-MODIFIED:20220321T142621Z
UID:4077-1636480800-1636484400@www.totalgym.fi
SUMMARY:Ohjattu toiminnallinen harjoittelu
DESCRIPTION:Ohjaajana Taru
URL:https://www.totalgym.fi/tunti/ohjattu-toiminnallinen-harjoittelu-20-2021-11-09/
LOCATION:Vuorikatu 3 B\, Uusikaupunki\, 23500\, Suomi
END:VEVENT
BEGIN:VEVENT
DTSTART;TZID=Europe/Helsinki:20211102T180000
DTEND;TZID=Europe/Helsinki:20211102T190000
DTSTAMP:20260419T181752
CREATED:20210824T153708Z
LAST-MODIFIED:20220321T142621Z
UID:4076-1635876000-1635879600@www.totalgym.fi
SUMMARY:Ohjattu toiminnallinen harjoittelu
DESCRIPTION:Ohjaajana Taru
URL:https://www.totalgym.fi/tunti/ohjattu-toiminnallinen-harjoittelu-20-2021-11-02/
LOCATION:Vuorikatu 3 B\, Uusikaupunki\, 23500\, Suomi
END:VEVENT
BEGIN:VEVENT
DTSTART;TZID=Europe/Helsinki:20211026T180000
DTEND;TZID=Europe/Helsinki:20211026T190000
DTSTAMP:20260419T181752
CREATED:20210824T153708Z
LAST-MODIFIED:20220321T142621Z
UID:4075-1635271200-1635274800@www.totalgym.fi
SUMMARY:Ohjattu toiminnallinen harjoittelu
DESCRIPTION:Ohjaajana Taru
URL:https://www.totalgym.fi/tunti/ohjattu-toiminnallinen-harjoittelu-20-2021-10-26/
LOCATION:Vuorikatu 3 B\, Uusikaupunki\, 23500\, Suomi
END:VEVENT
BEGIN:VEVENT
DTSTART;TZID=Europe/Helsinki:20211019T180000
DTEND;TZID=Europe/Helsinki:20211019T190000
DTSTAMP:20260419T181752
CREATED:20210824T153708Z
LAST-MODIFIED:20220321T142620Z
UID:4074-1634666400-1634670000@www.totalgym.fi
SUMMARY:Ohjattu toiminnallinen harjoittelu
DESCRIPTION:Ohjaajana Taru
URL:https://www.totalgym.fi/tunti/ohjattu-toiminnallinen-harjoittelu-20-2021-10-19/
LOCATION:Vuorikatu 3 B\, Uusikaupunki\, 23500\, Suomi
END:VEVENT
BEGIN:VEVENT
DTSTART;TZID=Europe/Helsinki:20211012T180000
DTEND;TZID=Europe/Helsinki:20211012T190000
DTSTAMP:20260419T181752
CREATED:20210824T153708Z
LAST-MODIFIED:20220321T142620Z
UID:4073-1634061600-1634065200@www.totalgym.fi
SUMMARY:Ohjattu toiminnallinen harjoittelu
DESCRIPTION:Ohjaajana Taru
URL:https://www.totalgym.fi/tunti/ohjattu-toiminnallinen-harjoittelu-20-2021-10-12/
LOCATION:Vuorikatu 3 B\, Uusikaupunki\, 23500\, Suomi
END:VEVENT
BEGIN:VEVENT
DTSTART;TZID=Europe/Helsinki:20211005T180000
DTEND;TZID=Europe/Helsinki:20211005T190000
DTSTAMP:20260419T181752
CREATED:20210824T153708Z
LAST-MODIFIED:20220321T142620Z
UID:4072-1633456800-1633460400@www.totalgym.fi
SUMMARY:Ohjattu toiminnallinen harjoittelu
DESCRIPTION:Ohjaajana Taru
URL:https://www.totalgym.fi/tunti/ohjattu-toiminnallinen-harjoittelu-20-2021-10-05/
LOCATION:Vuorikatu 3 B\, Uusikaupunki\, 23500\, Suomi
END:VEVENT
BEGIN:VEVENT
DTSTART;TZID=Europe/Helsinki:20210928T180000
DTEND;TZID=Europe/Helsinki:20210928T190000
DTSTAMP:20260419T181752
CREATED:20210824T153708Z
LAST-MODIFIED:20220321T142619Z
UID:4062-1632852000-1632855600@www.totalgym.fi
SUMMARY:Ohjattu toiminnallinen harjoittelu
DESCRIPTION:Ohjaajana Taru
URL:https://www.totalgym.fi/tunti/ohjattu-toiminnallinen-harjoittelu-20-2021-09-28/
LOCATION:Vuorikatu 3 B\, Uusikaupunki\, 23500\, Suomi
END:VEVENT
BEGIN:VEVENT
DTSTART;TZID=Europe/Helsinki:20210921T180000
DTEND;TZID=Europe/Helsinki:20210921T190000
DTSTAMP:20260419T181752
CREATED:20210824T153708Z
LAST-MODIFIED:20220321T142619Z
UID:4061-1632247200-1632250800@www.totalgym.fi
SUMMARY:Ohjattu toiminnallinen harjoittelu
DESCRIPTION:Ohjaajana Taru
URL:https://www.totalgym.fi/tunti/ohjattu-toiminnallinen-harjoittelu-20-2021-09-21/
LOCATION:Vuorikatu 3 B\, Uusikaupunki\, 23500\, Suomi
END:VEVENT
BEGIN:VEVENT
DTSTART;TZID=Europe/Helsinki:20210914T180000
DTEND;TZID=Europe/Helsinki:20210914T190000
DTSTAMP:20260419T181752
CREATED:20210824T153708Z
LAST-MODIFIED:20220321T142617Z
UID:4060-1631642400-1631646000@www.totalgym.fi
SUMMARY:Ohjattu toiminnallinen harjoittelu
DESCRIPTION:Ohjaajana Taru
URL:https://www.totalgym.fi/tunti/ohjattu-toiminnallinen-harjoittelu-20-2021-09-14/
LOCATION:Vuorikatu 3 B\, Uusikaupunki\, 23500\, Suomi
END:VEVENT
BEGIN:VEVENT
DTSTART;TZID=Europe/Helsinki:20210907T180000
DTEND;TZID=Europe/Helsinki:20210907T190000
DTSTAMP:20260419T181752
CREATED:20210824T153708Z
LAST-MODIFIED:20220321T142614Z
UID:4057-1631037600-1631041200@www.totalgym.fi
SUMMARY:Ohjattu toiminnallinen harjoittelu
DESCRIPTION:Ohjaajana Taru
URL:https://www.totalgym.fi/tunti/ohjattu-toiminnallinen-harjoittelu-20/
LOCATION:Vuorikatu 3 B\, Uusikaupunki\, 23500\, Suomi
END:VEVENT
BEGIN:VEVENT
DTSTART;TZID=Europe/Helsinki:20201208T180000
DTEND;TZID=Europe/Helsinki:20201208T190000
DTSTAMP:20260419T181752
CREATED:20201116T150757Z
LAST-MODIFIED:20201116T150757Z
UID:3958-1607450400-1607454000@www.totalgym.fi
SUMMARY:Ohjattu toiminnallinen harjoittelu
DESCRIPTION:Ohjaajana Taru
URL:https://www.totalgym.fi/tunti/ohjattu-toiminnallinen-harjoittelu-19-2020-12-08/
LOCATION:Vuorikatu 3 B\, Uusikaupunki\, 23500\, Suomi
END:VEVENT
BEGIN:VEVENT
DTSTART;TZID=Europe/Helsinki:20201201T180000
DTEND;TZID=Europe/Helsinki:20201201T190000
DTSTAMP:20260419T181752
CREATED:20201116T150757Z
LAST-MODIFIED:20201116T150757Z
UID:3955-1606845600-1606849200@www.totalgym.fi
SUMMARY:Ohjattu toiminnallinen harjoittelu
DESCRIPTION:Ohjaajana Taru
URL:https://www.totalgym.fi/tunti/ohjattu-toiminnallinen-harjoittelu-19/
LOCATION:Vuorikatu 3 B\, Uusikaupunki\, 23500\, Suomi
END:VEVENT
BEGIN:VEVENT
DTSTART;TZID=Europe/Helsinki:20201126T180000
DTEND;TZID=Europe/Helsinki:20201126T190000
DTSTAMP:20260419T181752
CREATED:20200825T133102Z
LAST-MODIFIED:20200825T133102Z
UID:3944-1606413600-1606417200@www.totalgym.fi
SUMMARY:Ohjattu toiminnallinen harjoittelu
DESCRIPTION:Ohjaajana Taru
URL:https://www.totalgym.fi/tunti/ohjattu-toiminnallinen-harjoittelu-13-2020-11-26/
LOCATION:Vuorikatu 3 B\, Uusikaupunki\, 23500\, Suomi
END:VEVENT
BEGIN:VEVENT
DTSTART;TZID=Europe/Helsinki:20201119T180000
DTEND;TZID=Europe/Helsinki:20201119T190000
DTSTAMP:20260419T181752
CREATED:20200825T133102Z
LAST-MODIFIED:20200825T133102Z
UID:3943-1605808800-1605812400@www.totalgym.fi
SUMMARY:Ohjattu toiminnallinen harjoittelu
DESCRIPTION:Ohjaajana Taru
URL:https://www.totalgym.fi/tunti/ohjattu-toiminnallinen-harjoittelu-13-2020-11-19/
LOCATION:Vuorikatu 3 B\, Uusikaupunki\, 23500\, Suomi
END:VEVENT
BEGIN:VEVENT
DTSTART;TZID=Europe/Helsinki:20201112T180000
DTEND;TZID=Europe/Helsinki:20201112T190000
DTSTAMP:20260419T181752
CREATED:20200825T133102Z
LAST-MODIFIED:20200825T133102Z
UID:3942-1605204000-1605207600@www.totalgym.fi
SUMMARY:Ohjattu toiminnallinen harjoittelu
DESCRIPTION:Ohjaajana Taru
URL:https://www.totalgym.fi/tunti/ohjattu-toiminnallinen-harjoittelu-13-2020-11-12/
LOCATION:Vuorikatu 3 B\, Uusikaupunki\, 23500\, Suomi
END:VEVENT
BEGIN:VEVENT
DTSTART;TZID=Europe/Helsinki:20201103T180000
DTEND;TZID=Europe/Helsinki:20201103T190000
DTSTAMP:20260419T181752
CREATED:20201027T131907Z
LAST-MODIFIED:20201027T131907Z
UID:3951-1604426400-1604430000@www.totalgym.fi
SUMMARY:Ohjattu Toiminnallinen harjoittelu
DESCRIPTION:Ohjaajana Taru
URL:https://www.totalgym.fi/tunti/ohjattu-toiminnallinen-harjoittelu-18/
LOCATION:Vuorikatu 3 B\, Uusikaupunki\, 23500\, Suomi
END:VEVENT
BEGIN:VEVENT
DTSTART;TZID=Europe/Helsinki:20201029T180000
DTEND;TZID=Europe/Helsinki:20201029T190000
DTSTAMP:20260419T181752
CREATED:20200825T133102Z
LAST-MODIFIED:20201027T131508Z
UID:3908-1603994400-1603998000@www.totalgym.fi
SUMMARY:Ohjattu toiminnallinen harjoittelu
DESCRIPTION:Ohjaajana Taru
URL:https://www.totalgym.fi/tunti/ohjattu-toiminnallinen-harjoittelu-13-2020-10-29/
LOCATION:Vuorikatu 3 B\, Uusikaupunki\, 23500\, Suomi
END:VEVENT
END:VCALENDAR