BEGIN:VCALENDAR
VERSION:2.0
PRODID:-//Total Gym - ECPv6.9.0//NONSGML v1.0//EN
CALSCALE:GREGORIAN
METHOD:PUBLISH
X-WR-CALNAME:Total Gym
X-ORIGINAL-URL:https://www.totalgym.fi
X-WR-CALDESC:Events for Total Gym
REFRESH-INTERVAL;VALUE=DURATION:PT1H
X-Robots-Tag:noindex
X-PUBLISHED-TTL:PT1H
BEGIN:VTIMEZONE
TZID:Europe/Helsinki
BEGIN:DAYLIGHT
TZOFFSETFROM:+0200
TZOFFSETTO:+0300
TZNAME:EEST
DTSTART:20180325T010000
END:DAYLIGHT
BEGIN:STANDARD
TZOFFSETFROM:+0300
TZOFFSETTO:+0200
TZNAME:EET
DTSTART:20181028T010000
END:STANDARD
BEGIN:DAYLIGHT
TZOFFSETFROM:+0200
TZOFFSETTO:+0300
TZNAME:EEST
DTSTART:20190331T010000
END:DAYLIGHT
BEGIN:STANDARD
TZOFFSETFROM:+0300
TZOFFSETTO:+0200
TZNAME:EET
DTSTART:20191027T010000
END:STANDARD
BEGIN:DAYLIGHT
TZOFFSETFROM:+0200
TZOFFSETTO:+0300
TZNAME:EEST
DTSTART:20200329T010000
END:DAYLIGHT
BEGIN:STANDARD
TZOFFSETFROM:+0300
TZOFFSETTO:+0200
TZNAME:EET
DTSTART:20201025T010000
END:STANDARD
END:VTIMEZONE
BEGIN:VEVENT
DTSTART;TZID=Europe/Helsinki:20201026T180000
DTEND;TZID=Europe/Helsinki:20201026T190000
DTSTAMP:20260419T224228
CREATED:20200927T132853Z
LAST-MODIFIED:20200927T132853Z
UID:3935-1603735200-1603738800@www.totalgym.fi
SUMMARY:Ohjattu toiminnallinen harjoittelu
DESCRIPTION:Ohjaajana Päivi
URL:https://www.totalgym.fi/tunti/ohjattu-toiminnallinen-harjoittelu-17/
LOCATION:Vuorikatu 3 B\, Uusikaupunki\, 23500\, Suomi
END:VEVENT
BEGIN:VEVENT
DTSTART;TZID=Europe/Helsinki:20201022T180000
DTEND;TZID=Europe/Helsinki:20201022T190000
DTSTAMP:20260419T224228
CREATED:20200825T133102Z
LAST-MODIFIED:20201027T131508Z
UID:3907-1603389600-1603393200@www.totalgym.fi
SUMMARY:Ohjattu toiminnallinen harjoittelu
DESCRIPTION:Ohjaajana Taru
URL:https://www.totalgym.fi/tunti/ohjattu-toiminnallinen-harjoittelu-13-2020-10-22/
LOCATION:Vuorikatu 3 B\, Uusikaupunki\, 23500\, Suomi
END:VEVENT
BEGIN:VEVENT
DTSTART;TZID=Europe/Helsinki:20201015T180000
DTEND;TZID=Europe/Helsinki:20201015T190000
DTSTAMP:20260419T224228
CREATED:20200825T133102Z
LAST-MODIFIED:20201027T131508Z
UID:3906-1602784800-1602788400@www.totalgym.fi
SUMMARY:Ohjattu toiminnallinen harjoittelu
DESCRIPTION:Ohjaajana Taru
URL:https://www.totalgym.fi/tunti/ohjattu-toiminnallinen-harjoittelu-13-2020-10-15/
LOCATION:Vuorikatu 3 B\, Uusikaupunki\, 23500\, Suomi
END:VEVENT
BEGIN:VEVENT
DTSTART;TZID=Europe/Helsinki:20201008T180000
DTEND;TZID=Europe/Helsinki:20201008T190000
DTSTAMP:20260419T224228
CREATED:20200825T133102Z
LAST-MODIFIED:20201027T131507Z
UID:3905-1602180000-1602183600@www.totalgym.fi
SUMMARY:Ohjattu toiminnallinen harjoittelu
DESCRIPTION:Ohjaajana Taru
URL:https://www.totalgym.fi/tunti/ohjattu-toiminnallinen-harjoittelu-13-2020-10-08/
LOCATION:Vuorikatu 3 B\, Uusikaupunki\, 23500\, Suomi
END:VEVENT
BEGIN:VEVENT
DTSTART;TZID=Europe/Helsinki:20201005T180000
DTEND;TZID=Europe/Helsinki:20201005T190000
DTSTAMP:20260419T224228
CREATED:20200927T132743Z
LAST-MODIFIED:20200927T132743Z
UID:3932-1601920800-1601924400@www.totalgym.fi
SUMMARY:Ohjattu toiminnallinen harjoittelu
DESCRIPTION:Ohjaajana Päivi
URL:https://www.totalgym.fi/tunti/ohjattu-toiminnallinen-harjoittelu-16/
LOCATION:Vuorikatu 3 B\, Uusikaupunki\, 23500\, Suomi
END:VEVENT
BEGIN:VEVENT
DTSTART;TZID=Europe/Helsinki:20200929T180000
DTEND;TZID=Europe/Helsinki:20200929T190000
DTSTAMP:20260419T224228
CREATED:20200825T133308Z
LAST-MODIFIED:20200825T133308Z
UID:3909-1601402400-1601406000@www.totalgym.fi
SUMMARY:Ohjattu toiminnallinen harjoittelu
DESCRIPTION:Ohjaajana Taru
URL:https://www.totalgym.fi/tunti/ohjattu-toiminnallinen-harjoittelu-14/
LOCATION:Vuorikatu 3 B\, Uusikaupunki\, 23500\, Suomi
END:VEVENT
BEGIN:VEVENT
DTSTART;TZID=Europe/Helsinki:20200927T163000
DTEND;TZID=Europe/Helsinki:20200927T173000
DTSTAMP:20260419T224229
CREATED:20200825T133846Z
LAST-MODIFIED:20200825T133846Z
UID:3912-1601224200-1601227800@www.totalgym.fi
SUMMARY:Ohjattu toiminnallinen harjoittelu
DESCRIPTION:Ohjaajana Päivi
URL:https://www.totalgym.fi/tunti/ohjattu-toiminnallinen-harjoittelu-15/
LOCATION:Vuorikatu 3 B\, Uusikaupunki\, 23500\, Suomi
END:VEVENT
BEGIN:VEVENT
DTSTART;TZID=Europe/Helsinki:20200924T180000
DTEND;TZID=Europe/Helsinki:20200924T190000
DTSTAMP:20260419T224229
CREATED:20200825T133102Z
LAST-MODIFIED:20201027T131507Z
UID:3904-1600970400-1600974000@www.totalgym.fi
SUMMARY:Ohjattu toiminnallinen harjoittelu
DESCRIPTION:Ohjaajana Taru
URL:https://www.totalgym.fi/tunti/ohjattu-toiminnallinen-harjoittelu-13-2020-09-24/
LOCATION:Vuorikatu 3 B\, Uusikaupunki\, 23500\, Suomi
END:VEVENT
BEGIN:VEVENT
DTSTART;TZID=Europe/Helsinki:20200917T180000
DTEND;TZID=Europe/Helsinki:20200917T190000
DTSTAMP:20260419T224229
CREATED:20200825T133102Z
LAST-MODIFIED:20201027T131507Z
UID:3903-1600365600-1600369200@www.totalgym.fi
SUMMARY:Ohjattu toiminnallinen harjoittelu
DESCRIPTION:Ohjaajana Taru
URL:https://www.totalgym.fi/tunti/ohjattu-toiminnallinen-harjoittelu-13-2020-09-17/
LOCATION:Vuorikatu 3 B\, Uusikaupunki\, 23500\, Suomi
END:VEVENT
BEGIN:VEVENT
DTSTART;TZID=Europe/Helsinki:20200910T180000
DTEND;TZID=Europe/Helsinki:20200910T190000
DTSTAMP:20260419T224229
CREATED:20200825T133102Z
LAST-MODIFIED:20201027T131506Z
UID:3900-1599760800-1599764400@www.totalgym.fi
SUMMARY:Ohjattu toiminnallinen harjoittelu
DESCRIPTION:Ohjaajana Taru
URL:https://www.totalgym.fi/tunti/ohjattu-toiminnallinen-harjoittelu-13/
LOCATION:Vuorikatu 3 B\, Uusikaupunki\, 23500\, Suomi
END:VEVENT
BEGIN:VEVENT
DTSTART;TZID=Europe/Helsinki:20200602T173000
DTEND;TZID=Europe/Helsinki:20200602T183000
DTSTAMP:20260419T224229
CREATED:20200525T165322Z
LAST-MODIFIED:20200525T165322Z
UID:3891-1591119000-1591122600@www.totalgym.fi
SUMMARY:Ohjattu toiminnallinen harjoittelu
DESCRIPTION:Ohjaajana Päivi
URL:https://www.totalgym.fi/tunti/ohjattu-toiminnallinen-harjoittelu-12/
LOCATION:Vuorikatu 3 B\, Uusikaupunki\, 23500\, Suomi
END:VEVENT
BEGIN:VEVENT
DTSTART;TZID=Europe/Helsinki:20200207T180000
DTEND;TZID=Europe/Helsinki:20200207T184500
DTSTAMP:20260419T224229
CREATED:20200129T150159Z
LAST-MODIFIED:20200129T150159Z
UID:3851-1581098400-1581101100@www.totalgym.fi
SUMMARY:Core+Liikkuvuus
DESCRIPTION:Ohjaajana Taru
URL:https://www.totalgym.fi/tunti/coreliikkuvuus/
LOCATION:Vuorikatu 3 B\, Uusikaupunki\, 23500\, Suomi
END:VEVENT
BEGIN:VEVENT
DTSTART;TZID=Europe/Helsinki:20200105T163000
DTEND;TZID=Europe/Helsinki:20200105T173000
DTSTAMP:20260419T224229
CREATED:20191216T160345Z
LAST-MODIFIED:20200224T141748Z
UID:3819-1578241800-1578245400@www.totalgym.fi
SUMMARY:Ohjattu toiminnallinen harjoittelu
DESCRIPTION:Ohjaajana Päivi
URL:https://www.totalgym.fi/tunti/ohjattu-toiminnallinen-harjoittelu-11/
LOCATION:Vuorikatu 3 B\, Uusikaupunki\, 23500\, Suomi
END:VEVENT
BEGIN:VEVENT
DTSTART;TZID=Europe/Helsinki:20191219T180000
DTEND;TZID=Europe/Helsinki:20191219T190000
DTSTAMP:20260419T224229
CREATED:20191216T155144Z
LAST-MODIFIED:20200224T142959Z
UID:3811-1576778400-1576782000@www.totalgym.fi
SUMMARY:Ohjattu toiminnallinen harjoittelu
DESCRIPTION:Ohjaajana Taru
URL:https://www.totalgym.fi/tunti/ohjattu-toiminnallinen-harjoittelu-10/
LOCATION:Vuorikatu 3 B\, Uusikaupunki\, 23500\, Suomi
END:VEVENT
BEGIN:VEVENT
DTSTART;TZID=Europe/Helsinki:20191218T180000
DTEND;TZID=Europe/Helsinki:20191218T190000
DTSTAMP:20260419T224229
CREATED:20191216T153810Z
LAST-MODIFIED:20200224T142706Z
UID:3804-1576692000-1576695600@www.totalgym.fi
SUMMARY:Ohjattu toiminnallinen harjoittelu
DESCRIPTION:Ohjaajana Henri
URL:https://www.totalgym.fi/tunti/ohjattu-toiminnallinen-harjoittelu-9/
LOCATION:Vuorikatu 3 B\, Uusikaupunki\, 23500\, Suomi
END:VEVENT
BEGIN:VEVENT
DTSTART;TZID=Europe/Helsinki:20191216T180000
DTEND;TZID=Europe/Helsinki:20191216T190000
DTSTAMP:20260419T224229
CREATED:20191216T152425Z
LAST-MODIFIED:20191216T152425Z
UID:3798-1576519200-1576522800@www.totalgym.fi
SUMMARY:Ohjattu toiminnalllinen harjoittelu
DESCRIPTION:Ohjaajana Päivi
URL:https://www.totalgym.fi/tunti/ohjattu-toiminnalllinen-harjoittelu/
LOCATION:Vuorikatu 3 B\, Uusikaupunki\, 23500\, Suomi
END:VEVENT
BEGIN:VEVENT
DTSTART;TZID=Europe/Helsinki:20191009T180000
DTEND;TZID=Europe/Helsinki:20191009T190000
DTSTAMP:20260419T224229
CREATED:20191003T063423Z
LAST-MODIFIED:20191216T150813Z
UID:3636-1570644000-1570647600@www.totalgym.fi
SUMMARY:Ohjattu toiminnallinen harjoittelu
DESCRIPTION:Ohjaajana Henri
URL:https://www.totalgym.fi/tunti/ohjattu-toiminnallinen-harjoittelu-8/
LOCATION:Vuorikatu 3 B\, Uusikaupunki\, 23500\, Suomi
END:VEVENT
BEGIN:VEVENT
DTSTART;TZID=Europe/Helsinki:20190905T170000
DTEND;TZID=Europe/Helsinki:20190905T180000
DTSTAMP:20260419T224229
CREATED:20180907T124612Z
LAST-MODIFIED:20191216T151106Z
UID:3437-1567702800-1567706400@www.totalgym.fi
SUMMARY:Ohjattu toiminnallinen harjoittelu
DESCRIPTION:Ohjaajana Taru. \nHinta ohjatuille tunneille on 8€ / kerta. \nPaikan tunneille voit varata ajanvarauksestamme.
URL:https://www.totalgym.fi/tunti/ohjattu-toiminnallinen-harjoittelu-2/
LOCATION:Vuorikatu 3 B\, Uusikaupunki\, 23500\, Suomi
END:VEVENT
BEGIN:VEVENT
DTSTART;TZID=Europe/Helsinki:20190902T180000
DTEND;TZID=Europe/Helsinki:20190902T190000
DTSTAMP:20260419T224229
CREATED:20180907T123732Z
LAST-MODIFIED:20191121T153059Z
UID:3426-1567447200-1567450800@www.totalgym.fi
SUMMARY:Ohjattu toiminnallinen harjoittelu
DESCRIPTION:Ohjaajana Päivi. \nHinta ohjatuille tunneille on 8€ / kerta. \nPaikan tunneille voit varata ajanvarauksestamme.
URL:https://www.totalgym.fi/tunti/ohjattu-toiminnallinen-harjoittelu/
LOCATION:Vuorikatu 3 B\, Uusikaupunki\, 23500\, Suomi
END:VEVENT
BEGIN:VEVENT
DTSTART;TZID=Europe/Helsinki:20190529T180000
DTEND;TZID=Europe/Helsinki:20190529T190000
DTSTAMP:20260419T224229
CREATED:20190415T151009Z
LAST-MODIFIED:20190415T151009Z
UID:3598-1559152800-1559156400@www.totalgym.fi
SUMMARY:Ohjattu toiminnallinen harjoittelu
DESCRIPTION:Ohjaajana Taru
URL:https://www.totalgym.fi/tunti/ohjattu-toiminnallinen-harjoittelu-7/
LOCATION:Vuorikatu 3 B\, Uusikaupunki\, 23500\, Suomi
END:VEVENT
BEGIN:VEVENT
DTSTART;TZID=Europe/Helsinki:20190502T180000
DTEND;TZID=Europe/Helsinki:20190502T190000
DTSTAMP:20260419T224229
CREATED:20190415T150716Z
LAST-MODIFIED:20190415T150716Z
UID:3592-1556820000-1556823600@www.totalgym.fi
SUMMARY:Ohjattu toiminnallinen harjoittelu
DESCRIPTION:Ohjaajana Taru
URL:https://www.totalgym.fi/tunti/ohjattu-toiminnallinen-harjoittelu-6/
LOCATION:Vuorikatu 3 B\, Uusikaupunki\, 23500\, Suomi
END:VEVENT
BEGIN:VEVENT
DTSTART;TZID=Europe/Helsinki:20190301T180000
DTEND;TZID=Europe/Helsinki:20190301T190000
DTSTAMP:20260419T224229
CREATED:20180907T124612Z
LAST-MODIFIED:20190121T150422Z
UID:3539-1551463200-1551466800@www.totalgym.fi
SUMMARY:Ohjattu toiminnallinen harjoittelu
DESCRIPTION:Ohjaajana Taru. \nHinta ohjatuille tunneille on 8€ / kerta. \nPaikan tunneille voit varata ajanvarauksestamme.
URL:https://www.totalgym.fi/tunti/ohjattu-toiminnallinen-harjoittelu-2-2019-03-01/
LOCATION:Vuorikatu 3 B\, Uusikaupunki\, 23500\, Suomi
END:VEVENT
BEGIN:VEVENT
DTSTART;TZID=Europe/Helsinki:20190201T180000
DTEND;TZID=Europe/Helsinki:20190201T190000
DTSTAMP:20260419T224229
CREATED:20190121T150717Z
LAST-MODIFIED:20190121T150717Z
UID:3545-1549044000-1549047600@www.totalgym.fi
SUMMARY:Ohjattu toiminnallinen harjoittelu
DESCRIPTION:Ohjaajana Taru
URL:https://www.totalgym.fi/tunti/ohjattu-toiminnallinen-harjoittelu-5/
LOCATION:Vuorikatu 3 B\, Uusikaupunki\, 23500\, Suomi
END:VEVENT
BEGIN:VEVENT
DTSTART;TZID=Europe/Helsinki:20190127T170000
DTEND;TZID=Europe/Helsinki:20190127T180000
DTSTAMP:20260419T224229
CREATED:20190115T163120Z
LAST-MODIFIED:20190115T163120Z
UID:3524-1548608400-1548612000@www.totalgym.fi
SUMMARY:Ohjattu toiminnallinen harjoittelu
DESCRIPTION:Päivi
URL:https://www.totalgym.fi/tunti/ohjattu-toiminnallinen-harjoittelu-4/
LOCATION:Vuorikatu 3 B\, Uusikaupunki\, 23500\, Suomi
END:VEVENT
BEGIN:VEVENT
DTSTART;TZID=Europe/Helsinki:20181227T180000
DTEND;TZID=Europe/Helsinki:20181227T190000
DTSTAMP:20260419T224229
CREATED:20181217T154043Z
LAST-MODIFIED:20181217T154043Z
UID:3518-1545933600-1545937200@www.totalgym.fi
SUMMARY:Ohjattu toiminnallinen harjoittelu
DESCRIPTION:Ohjaajana  Taru
URL:https://www.totalgym.fi/tunti/ohjattu-toiminnallinen-harjoittelu-3/
LOCATION:Vuorikatu 3 B\, Uusikaupunki\, 23500\, Suomi
END:VEVENT
BEGIN:VEVENT
DTSTART;TZID=Europe/Helsinki:20181123T180000
DTEND;TZID=Europe/Helsinki:20181123T190000
DTSTAMP:20260419T224229
CREATED:20180907T124612Z
LAST-MODIFIED:20181217T153106Z
UID:3460-1542996000-1542999600@www.totalgym.fi
SUMMARY:Ohjattu toiminnallinen harjoittelu
DESCRIPTION:Ohjaajana Taru. \nHinta ohjatuille tunneille on 8€ / kerta. \nPaikan tunneille voit varata ajanvarauksestamme.
URL:https://www.totalgym.fi/tunti/ohjattu-toiminnallinen-harjoittelu-2-2018-11-23/
LOCATION:Vuorikatu 3 B\, Uusikaupunki\, 23500\, Suomi
END:VEVENT
END:VCALENDAR